BEGIN:VCALENDAR
VERSION:2.0
PRODID:-//Plone.org//NONSGML plone.app.event//EN
X-WR-TIMEZONE:Europe/Madrid
BEGIN:VEVENT
SUMMARY:III Regata de la lliga catalana de llagut
DTSTART;TZID=Europe/Madrid;VALUE=DATE-TIME:20050703T113000
DTEND;TZID=Europe/Madrid;VALUE=DATE-TIME:20050703T123000
DTSTAMP;VALUE=DATE-TIME:20260419T201124Z
UID:33921244aae5414f4d38e3ccf310d34f
CREATED;VALUE=DATE-TIME:20050703T000000Z
CATEGORIES:Esports
LOCATION:Port
ORGANIZER:
club de rem
,
federació catalana de rem

COMMENT:Preu: Gratuït
Durada: 16 h aprox
DESCRIPTION:2on Premi Vila d'Arenys
URL:https://arenysdemar.cat/document.php?id=14458
END:VEVENT
END:VCALENDAR