BEGIN:VCALENDAR
VERSION:2.0
PRODID:-//Plone.org//NONSGML plone.app.event//EN
X-WR-TIMEZONE:Europe/Madrid
BEGIN:VEVENT
SUMMARY:Conferència Els Indians: del Maresme a les Antilles, un viatge amb retorn
DTSTART;TZID=Europe/Madrid;VALUE=DATE-TIME:20050503T180000
DTEND;TZID=Europe/Madrid;VALUE=DATE-TIME:20050503T190000
DTSTAMP;VALUE=DATE-TIME:20260421T154546Z
UID:120fafeb7b5a2d0a09bffd5ec9bcd429
CREATED;VALUE=DATE-TIME:20050503T000000Z
CATEGORIES:Conferència
LOCATION:Calisay/Sala J.M. Arnau
ORGANIZER:
Aula d'Extensió Universitària

COMMENT:Durada: Fins les 19.30
DESCRIPTION:A càrrec de Martín Rodrigo, de la Universitat Pompeu Fabra
URL:https://arenysdemar.cat/document.php?id=14558
END:VEVENT
END:VCALENDAR