BEGIN:VCALENDAR
VERSION:2.0
PRODID:-//Plone.org//NONSGML plone.app.event//EN
X-WR-TIMEZONE:Europe/Madrid
BEGIN:VEVENT
SUMMARY:Conferència: Origen i desenvolupament de la indústria surera a Catalunya
DTSTART;TZID=Europe/Madrid;VALUE=DATE-TIME:20050510T180000
DTEND;TZID=Europe/Madrid;VALUE=DATE-TIME:20050510T190000
DTSTAMP;VALUE=DATE-TIME:20260421T015432Z
UID:f25b4be541424d626808ff5df745bd3c
CREATED;VALUE=DATE-TIME:20050510T000000Z
CATEGORIES:Conferència
LOCATION:Calisay/Sala J.M. Arnau
ORGANIZER:
Aula d'Extensió Universitària

COMMENT:Durada: Fins les 19:30
DESCRIPTION:A càrrec de Pep Espadalé del Museu del Suro de Palafrugell
URL:https://arenysdemar.cat/document.php?id=14559
END:VEVENT
END:VCALENDAR