BEGIN:VCALENDAR
VERSION:2.0
PRODID:-//Plone.org//NONSGML plone.app.event//EN
X-WR-TIMEZONE:Europe/Madrid
BEGIN:VEVENT
SUMMARY:El món màgic d'Andersen
DTSTART;TZID=Europe/Madrid;VALUE=DATE-TIME:20050929T180000
DTEND;TZID=Europe/Madrid;VALUE=DATE-TIME:20050929T190000
DTSTAMP;VALUE=DATE-TIME:20260423T231045Z
UID:60c57bbf23ce965b1061408345d26a7f
CREATED;VALUE=DATE-TIME:20050929T000000Z
CATEGORIES:Infantils
LOCATION:Biblioteca
ORGANIZER:
Biblioteca
- Regidoria de Cultura
DESCRIPTION:Taller infantil a càrrec de Marimar Cuadras
URL:https://arenysdemar.cat/document.php?id=14582
END:VEVENT
END:VCALENDAR