BEGIN:VCALENDAR
VERSION:2.0
PRODID:-//Plone.org//NONSGML plone.app.event//EN
X-WR-TIMEZONE:Europe/Madrid
BEGIN:VEVENT
SUMMARY:Trobada de l'Àguila i el Còndor per la pau del món
DTSTART;TZID=Europe/Madrid;VALUE=DATE-TIME:20050526T100000
DTEND;TZID=Europe/Madrid;VALUE=DATE-TIME:20050526T110000
DTSTAMP;VALUE=DATE-TIME:20260422T010150Z
UID:a1fb5446a8f8f80d4ced80996ed33147
CREATED;VALUE=DATE-TIME:20050526T000000Z
CATEGORIES:Conferència
LOCATION:Cotxeres de Sants - Barcelona
ORGANIZER:
Proyecto Aguila

COMMENT:Preu: 10 &euro;
Durada: fins divendres, 27 de maig de 2005
DESCRIPTION:Trobada de nadius americans
URL:https://arenysdemar.cat/document.php?id=14585
END:VEVENT
END:VCALENDAR