BEGIN:VCALENDAR
VERSION:2.0
PRODID:-//Plone.org//NONSGML plone.app.event//EN
X-WR-TIMEZONE:Europe/Madrid
BEGIN:VEVENT
SUMMARY:Cercavila de Macips i Captadores
DTSTART;TZID=Europe/Madrid;VALUE=DATE-TIME:20050816T090000
DTEND;TZID=Europe/Madrid;VALUE=DATE-TIME:20050816T100000
DTSTAMP;VALUE=DATE-TIME:20260423T145112Z
UID:b5b3553265cf779bcbd4bf6fb65f5320
CREATED;VALUE=DATE-TIME:20050816T000000Z
CATEGORIES:Festa
LOCATION:pels carrers de la vila
ORGANIZER:Germandat de Sant Roc
URL:https://arenysdemar.cat/document.php?id=14654
END:VEVENT
END:VCALENDAR