BEGIN:VCALENDAR
VERSION:2.0
PRODID:-//Plone.org//NONSGML plone.app.event//EN
X-WR-TIMEZONE:Europe/Madrid
BEGIN:VEVENT
SUMMARY:Torneig 4X4 Volei Platja
DTSTART;TZID=Europe/Madrid;VALUE=DATE-TIME:20050709T090000
DTEND;TZID=Europe/Madrid;VALUE=DATE-TIME:20050709T100000
DTSTAMP;VALUE=DATE-TIME:20260420T170804Z
UID:ce775eaac33c552ebe4a5813110a907f
CREATED;VALUE=DATE-TIME:20050709T000000Z
CATEGORIES:Esports
LOCATION:Platja Picòrdia (1a Platja)
ORGANIZER:Associació Volei Arenys
URL:https://arenysdemar.cat/document.php?id=14668
END:VEVENT
END:VCALENDAR