BEGIN:VCALENDAR
VERSION:2.0
PRODID:-//Plone.org//NONSGML plone.app.event//EN
X-WR-TIMEZONE:Europe/Madrid
BEGIN:VEVENT
SUMMARY:Torneig 2X2 mixte Volei Platja
DTSTART;TZID=Europe/Madrid;VALUE=DATE-TIME:20050827T090000
DTEND;TZID=Europe/Madrid;VALUE=DATE-TIME:20050827T100000
DTSTAMP;VALUE=DATE-TIME:20260421T153540Z
UID:48590684b7b33957947b2e139d9ace3e
CREATED;VALUE=DATE-TIME:20050827T000000Z
CATEGORIES:Esports
LOCATION:Platja Picòrdia (1a Platja)
ORGANIZER:Associació Volei Arenys
COMMENT:Durada: fins diumenge, 28 d'agost de 2005
URL:https://arenysdemar.cat/document.php?id=14669
END:VEVENT
END:VCALENDAR