BEGIN:VCALENDAR
VERSION:2.0
PRODID:-//Plone.org//NONSGML plone.app.event//EN
X-WR-TIMEZONE:Europe/Madrid
BEGIN:VEVENT
SUMMARY:Festa al carrer Sant Joan
DTSTART;TZID=Europe/Madrid;VALUE=DATE-TIME:20050617T220000
DTEND;TZID=Europe/Madrid;VALUE=DATE-TIME:20050617T230000
DTSTAMP;VALUE=DATE-TIME:20260423T140443Z
UID:15c0de7fc895008445d0985bec927bf7
CREATED;VALUE=DATE-TIME:20050617T000000Z
CATEGORIES:Festa
LOCATION:Carrer Sant Joan
ORGANIZER:Comissió de Festes del carrer Sant Joan
COMMENT:Durada: fins al 19 de juny de 2005
URL:https://arenysdemar.cat/document.php?id=14729
END:VEVENT
END:VCALENDAR