BEGIN:VCALENDAR
VERSION:2.0
PRODID:-//Plone.org//NONSGML plone.app.event//EN
X-WR-TIMEZONE:Europe/Madrid
BEGIN:VEVENT
SUMMARY:Contes de vetes i fils
DTSTART;TZID=Europe/Madrid;VALUE=DATE-TIME:20050707T190000
DTEND;TZID=Europe/Madrid;VALUE=DATE-TIME:20050707T200000
DTSTAMP;VALUE=DATE-TIME:20260420T185959Z
UID:b3f472e9976687b1fd98915f6e39d9b3
CREATED;VALUE=DATE-TIME:20050707T000000Z
CATEGORIES:Teatre
LOCATION:Museu Marés de la Punta
ORGANIZER:Museu d'Arenys de Mar-Regidoria de Cultura i Taller de puntes Synera
DESCRIPTION:a càrrec d'Albert Estengre
URL:https://arenysdemar.cat/document.php?id=14777
END:VEVENT
END:VCALENDAR