BEGIN:VCALENDAR
VERSION:2.0
PRODID:-//Plone.org//NONSGML plone.app.event//EN
X-WR-TIMEZONE:Europe/Madrid
BEGIN:VEVENT
SUMMARY:Festa del 9-Arenys
DTSTART;TZID=Europe/Madrid;VALUE=DATE-TIME:20050729T000000
DTEND;TZID=Europe/Madrid;VALUE=DATE-TIME:20050729T010000
DTSTAMP;VALUE=DATE-TIME:20260423T135748Z
UID:89ab95f39be8671ce5eb5482f5dd4961
CREATED;VALUE=DATE-TIME:20050729T000000Z
CATEGORIES:Festa
LOCATION:Emmig de la Riera, entre C. Barcelona i Plaça Mare Paula
ORGANIZER:Comissió de festes
COMMENT:Durada: També el 30 de juliol de 2005
URL:https://arenysdemar.cat/document.php?id=14811
END:VEVENT
END:VCALENDAR