BEGIN:VCALENDAR
VERSION:2.0
PRODID:-//Plone.org//NONSGML plone.app.event//EN
X-WR-TIMEZONE:Europe/Madrid
BEGIN:VEVENT
SUMMARY:50 anys de gegants a Arenys de Mar. Projecció d'un recull fotogràfic
DTSTART;TZID=Europe/Madrid;VALUE=DATE-TIME:20050707T210000
DTEND;TZID=Europe/Madrid;VALUE=DATE-TIME:20050707T220000
DTSTAMP;VALUE=DATE-TIME:20260423T145341Z
UID:ab20ba27c4a95bcc53dc072dae515d36
CREATED;VALUE=DATE-TIME:20050707T000000Z
CATEGORIES:Mostra
LOCATION:Plaça Ajuntament
ORGANIZER:Geganters d'Arenys de Mar
URL:https://arenysdemar.cat/document.php?id=14813
END:VEVENT
END:VCALENDAR