BEGIN:VCALENDAR
VERSION:2.0
PRODID:-//Plone.org//NONSGML plone.app.event//EN
X-WR-TIMEZONE:Europe/Madrid
BEGIN:VEVENT
SUMMARY:Concert en directe de Narcís Perich
DTSTART;TZID=Europe/Madrid;VALUE=DATE-TIME:20050827T200000
DTEND;TZID=Europe/Madrid;VALUE=DATE-TIME:20050827T210000
DTSTAMP;VALUE=DATE-TIME:20260421T200628Z
UID:2e9b1126492996cd227dcb20a4735c13
CREATED;VALUE=DATE-TIME:20050827T000000Z
CATEGORIES:Música
LOCATION:Biblioplatja
ORGANIZER:Biblioteca - Regidoria de Cultura
URL:https://arenysdemar.cat/document.php?id=14842
END:VEVENT
END:VCALENDAR