BEGIN:VCALENDAR
VERSION:2.0
PRODID:-//Plone.org//NONSGML plone.app.event//EN
X-WR-TIMEZONE:Europe/Madrid
BEGIN:VEVENT
SUMMARY:Torneig de futbol sala
DTSTART;TZID=Europe/Madrid;VALUE=DATE-TIME:20050813T000000
DTEND;TZID=Europe/Madrid;VALUE=DATE-TIME:20050813T010000
DTSTAMP;VALUE=DATE-TIME:20260423T200600Z
UID:98f99f970e7a94d81a7e61fa638f1f71
CREATED;VALUE=DATE-TIME:20050813T000000Z
CATEGORIES:Esports
LOCATION:Pistes Ceip Joan Maragall
ORGANIZER:Amics del Futbol Sala
COMMENT:Durada: fins al 14 d'agost de 2005. Inscripcions al SIJ
DESCRIPTION:Festes de Sant Roc
URL:https://arenysdemar.cat/document.php?id=14859
END:VEVENT
END:VCALENDAR