BEGIN:VCALENDAR
VERSION:2.0
PRODID:-//Plone.org//NONSGML plone.app.event//EN
X-WR-TIMEZONE:Europe/Madrid
BEGIN:VEVENT
SUMMARY:Lectures dramatitzades arran d'onades:
DTSTART;TZID=Europe/Madrid;VALUE=DATE-TIME:20050802T220000
DTEND;TZID=Europe/Madrid;VALUE=DATE-TIME:20050802T230000
DTSTAMP;VALUE=DATE-TIME:20260424T060856Z
UID:ebbdaac5db74cf32d75f797ac2fc0a44
CREATED;VALUE=DATE-TIME:20050802T000000Z
LOCATION:Biblioplatja
ORGANIZER:Biblioteca-Regidoria de Cultura
DESCRIPTION:Josep Maria Arnau i els americanos, a càrrec d'un grup d'actors arenyencs
URL:https://arenysdemar.cat/document.php?id=14889
END:VEVENT
END:VCALENDAR