BEGIN:VCALENDAR
VERSION:2.0
PRODID:-//Plone.org//NONSGML plone.app.event//EN
X-WR-TIMEZONE:Europe/Madrid
BEGIN:VEVENT
SUMMARY:Festa de carrer al Bareu
DTSTART;TZID=Europe/Madrid;VALUE=DATE-TIME:20050917T180000
DTEND;TZID=Europe/Madrid;VALUE=DATE-TIME:20050917T190000
DTSTAMP;VALUE=DATE-TIME:20260423T155317Z
UID:2b0fbf67a1af689de970d721f90092af
CREATED;VALUE=DATE-TIME:20050917T000000Z
CATEGORIES:Festa,Música
LOCATION:rial Bareu/Plaça de les Olles/c. Capellans
ORGANIZER:AVANA (Ass. Veïns d'Arenys del Nucli Antic)
DESCRIPTION:Vine a sopar a l'AVANA!
URL:https://arenysdemar.cat/document.php?id=14928
END:VEVENT
END:VCALENDAR