BEGIN:VCALENDAR
VERSION:2.0
PRODID:-//Plone.org//NONSGML plone.app.event//EN
X-WR-TIMEZONE:Europe/Madrid
BEGIN:VEVENT
SUMMARY:14è Curs de Micologia
DTSTART;TZID=Europe/Madrid;VALUE=DATE-TIME:20051003T203000
DTEND;TZID=Europe/Madrid;VALUE=DATE-TIME:20051003T213000
DTSTAMP;VALUE=DATE-TIME:20260420T113120Z
UID:1e6c3190576680949ad3a3b91dcc068c
CREATED;VALUE=DATE-TIME:20051003T000000Z
LOCATION:CEIP Joan Maragall
ORGANIZER:Regidories de Medi Ambient i Ensenyament. Col·labora: Associació Micològica del Maresme
COMMENT:Durada: Fins el 21 de novembre
DESCRIPTION:Arenys de Mar i els bolets. Tardor 2005
URL:https://arenysdemar.cat/document.php?id=14992
END:VEVENT
END:VCALENDAR