BEGIN:VCALENDAR
VERSION:2.0
PRODID:-//Plone.org//NONSGML plone.app.event//EN
X-WR-TIMEZONE:Europe/Madrid
BEGIN:VEVENT
SUMMARY:13a Exposició Micològica Els bolets de la comarca
DTSTART;TZID=Europe/Madrid;VALUE=DATE-TIME:20051028T160000
DTEND;TZID=Europe/Madrid;VALUE=DATE-TIME:20051028T170000
DTSTAMP;VALUE=DATE-TIME:20260420T132639Z
UID:3412d1c3035b056e5ae3f6c50092089f
CREATED;VALUE=DATE-TIME:20051028T000000Z
LOCATION:Calisay/Sala Polivalent
ORGANIZER:Regidories de Medi Ambient i Ensenyament. Col·labora: Associació Micològica del Maresme
COMMENT:Durada: Fins el 30 d'octubre
DESCRIPTION:Arenys de Mar i els bolets. Tardor 2005
URL:https://arenysdemar.cat/document.php?id=14993
END:VEVENT
END:VCALENDAR