BEGIN:VCALENDAR
VERSION:2.0
PRODID:-//Plone.org//NONSGML plone.app.event//EN
X-WR-TIMEZONE:Europe/Madrid
BEGIN:VEVENT
SUMMARY:Festa infantil, amb el grup Glamour
DTSTART;TZID=Europe/Madrid;VALUE=DATE-TIME:20050910T173000
DTEND;TZID=Europe/Madrid;VALUE=DATE-TIME:20050910T183000
DTSTAMP;VALUE=DATE-TIME:20260423T155240Z
UID:f2bc6bfade40cc16a3fc15e8a758f4be
CREATED;VALUE=DATE-TIME:20050910T000000Z
CATEGORIES:Infantils
LOCATION:Sala d'actes de l'Ateneu
ORGANIZER:Ateneu Arenyenc
DESCRIPTION:Festa del 121è aniversari de l'Ateneu Arenyenc
URL:https://arenysdemar.cat/document.php?id=14999
END:VEVENT
END:VCALENDAR