BEGIN:VCALENDAR
VERSION:2.0
PRODID:-//Plone.org//NONSGML plone.app.event//EN
X-WR-TIMEZONE:Europe/Madrid
BEGIN:VEVENT
SUMMARY:Xerrada Jovent i compromís amb la llengua
DTSTART;TZID=Europe/Madrid;VALUE=DATE-TIME:20050924T183000
DTEND;TZID=Europe/Madrid;VALUE=DATE-TIME:20050924T193000
DTSTAMP;VALUE=DATE-TIME:20260424T155309Z
UID:ec11fb58ef9227ae505cc228b586d120
CREATED;VALUE=DATE-TIME:20050924T000000Z
CATEGORIES:Festa
LOCATION:a l'espai jove del Calisay
ORGANIZER:Correllengua 2005
DESCRIPTION:Correllengua 2005
URL:https://arenysdemar.cat/document.php?id=15093
END:VEVENT
END:VCALENDAR