BEGIN:VCALENDAR
VERSION:2.0
PRODID:-//Plone.org//NONSGML plone.app.event//EN
X-WR-TIMEZONE:Europe/Madrid
BEGIN:VEVENT
SUMMARY:Curs de Noves Tecnologies. Nivell avançat
DTSTART;TZID=Europe/Madrid;VALUE=DATE-TIME:20051004T183000
DTEND;TZID=Europe/Madrid;VALUE=DATE-TIME:20051004T193000
DTSTAMP;VALUE=DATE-TIME:20260420T203925Z
UID:6f3f4296566fb2db9e5f79328455f846
CREATED;VALUE=DATE-TIME:20051004T000000Z
CATEGORIES:Cursos
LOCATION:Aula d'informàtica CEIP Sinera
ORGANIZER:Regidories de Comunicació i Noves Tecnologies. Amb el suport de la Diputació de Barcelona.
COMMENT:Durada: Del 18 d'octubre al 15 de novembre
DESCRIPTION:Utilització del paquet ofimàtic d'openoffice
URL:https://arenysdemar.cat/document.php?id=15150
END:VEVENT
END:VCALENDAR