BEGIN:VCALENDAR
VERSION:2.0
PRODID:-//Plone.org//NONSGML plone.app.event//EN
X-WR-TIMEZONE:Europe/Madrid
BEGIN:VEVENT
SUMMARY:Poesia
DTSTART;TZID=Europe/Madrid;VALUE=DATE-TIME:20051226T123000
DTEND;TZID=Europe/Madrid;VALUE=DATE-TIME:20051226T133000
DTSTAMP;VALUE=DATE-TIME:20260420T204243Z
UID:a574f24437c2105664c0c7b6491987f0
CREATED;VALUE=DATE-TIME:20051226T000000Z
CATEGORIES:Literatura
LOCATION:Teatre Principal
ORGANIZER:Teatre Principal
COMMENT:Preu: 5 &euro;
DESCRIPTION:Poema de Nadal a càrrec de Joan Pera
URL:https://arenysdemar.cat/document.php?id=15170
END:VEVENT
END:VCALENDAR