BEGIN:VCALENDAR
VERSION:2.0
PRODID:-//Plone.org//NONSGML plone.app.event//EN
X-WR-TIMEZONE:Europe/Madrid
BEGIN:VEVENT
SUMMARY:Ball a l'Ateneu
DTSTART;TZID=Europe/Madrid;VALUE=DATE-TIME:20051119T223000
DTEND;TZID=Europe/Madrid;VALUE=DATE-TIME:20051119T233000
DTSTAMP;VALUE=DATE-TIME:20260424T061541Z
UID:8cd56a32ecdccea563b587caf3f2971d
CREATED;VALUE=DATE-TIME:20051119T000000Z
CATEGORIES:Música
LOCATION:Ateneu Arenyenc
ORGANIZER:Ateneu Arenyenc
DESCRIPTION:a càrrec del grup Trio Maracaibo
URL:https://arenysdemar.cat/document.php?id=15177
END:VEVENT
END:VCALENDAR