BEGIN:VCALENDAR
VERSION:2.0
PRODID:-//Plone.org//NONSGML plone.app.event//EN
X-WR-TIMEZONE:Europe/Madrid
BEGIN:VEVENT
SUMMARY:Hora del Conte
DTSTART;TZID=Europe/Madrid;VALUE=DATE-TIME:20051124T180000
DTEND;TZID=Europe/Madrid;VALUE=DATE-TIME:20051124T190000
DTSTAMP;VALUE=DATE-TIME:20260421T002455Z
UID:941e308bfa504ed9955706c69a25dea9
CREATED;VALUE=DATE-TIME:20051124T000000Z
CATEGORIES:Infantils
LOCATION:Biblioteca
ORGANIZER:Biblioteca - Regidoria de Cultura
DESCRIPTION:a càrrec d'Elena Ruiz de Molina
URL:https://arenysdemar.cat/document.php?id=15198
END:VEVENT
END:VCALENDAR