BEGIN:VCALENDAR
VERSION:2.0
PRODID:-//Plone.org//NONSGML plone.app.event//EN
X-WR-TIMEZONE:Europe/Madrid
BEGIN:VEVENT
SUMMARY:Conferència de Paleoantropologia
DTSTART;TZID=Europe/Madrid;VALUE=DATE-TIME:20051115T180000
DTEND;TZID=Europe/Madrid;VALUE=DATE-TIME:20051115T190000
DTSTAMP;VALUE=DATE-TIME:20260424T041040Z
UID:0f8a4687d0c579181f36b1a0a736f6e9
CREATED;VALUE=DATE-TIME:20051115T000000Z
CATEGORIES:Conferència
LOCATION:Calisay/Sala J.M. Arnau
ORGANIZER:Aula d'Extensió Universitària
DESCRIPTION:L'origen del llenguatge a càrrec de Francesc Ribot Trefí de l'Institut de Paleontologia Dr. M. Crusafont
URL:https://arenysdemar.cat/document.php?id=15205
END:VEVENT
END:VCALENDAR