BEGIN:VCALENDAR
VERSION:2.0
PRODID:-//Plone.org//NONSGML plone.app.event//EN
X-WR-TIMEZONE:Europe/Madrid
BEGIN:VEVENT
SUMMARY:Conferència de Filologia catalana
DTSTART;TZID=Europe/Madrid;VALUE=DATE-TIME:20051122T180000
DTEND;TZID=Europe/Madrid;VALUE=DATE-TIME:20051122T190000
DTSTAMP;VALUE=DATE-TIME:20260420T104641Z
UID:c1ab92668e24cec9ceeb21bf0c190178
CREATED;VALUE=DATE-TIME:20051122T000000Z
CATEGORIES:Conferència
LOCATION:Calisay/Sala J.M. Arnau
ORGANIZER:Aula d'Extensió Universitària
DESCRIPTION:Joan Corominas i la llengua catalana a càrrec de Joan Ferrer Costa de la Universitat de Girona
URL:https://arenysdemar.cat/document.php?id=15206
END:VEVENT
END:VCALENDAR