BEGIN:VCALENDAR
VERSION:2.0
PRODID:-//Plone.org//NONSGML plone.app.event//EN
X-WR-TIMEZONE:Europe/Madrid
BEGIN:VEVENT
SUMMARY:Conferència de Mites i llegendes
DTSTART;TZID=Europe/Madrid;VALUE=DATE-TIME:20051118T180000
DTEND;TZID=Europe/Madrid;VALUE=DATE-TIME:20051118T190000
DTSTAMP;VALUE=DATE-TIME:20260421T113211Z
UID:7abe670db9b0793fd6f7549b1d0fdbfb
CREATED;VALUE=DATE-TIME:20051118T000000Z
CATEGORIES:Conferència
LOCATION:Calisay/Sala Noble
ORGANIZER:Aula d'Extensió Universitària
DESCRIPTION:Dimonis. Bruixes. Un viatge a l'imaginari del nostre entorn, amb visita a l'infern inclosa a càrrec de Ramon Verdaguer
URL:https://arenysdemar.cat/document.php?id=15208
END:VEVENT
END:VCALENDAR