BEGIN:VCALENDAR
VERSION:2.0
PRODID:-//Plone.org//NONSGML plone.app.event//EN
X-WR-TIMEZONE:Europe/Madrid
BEGIN:VEVENT
SUMMARY:Concert
DTSTART;TZID=Europe/Madrid;VALUE=DATE-TIME:20051120T183000
DTEND;TZID=Europe/Madrid;VALUE=DATE-TIME:20051120T193000
DTSTAMP;VALUE=DATE-TIME:20260424T025114Z
UID:06cc8ef6b89e41b96e269f2675f3259f
CREATED;VALUE=DATE-TIME:20051120T000000Z
CATEGORIES:Música
LOCATION:Sala d'actes de l'Ateneu Arenyenc
ORGANIZER:La Bodegueta-El racó del músic i Ateneu Arenyenc
COMMENT:Preu: Gratuït
DESCRIPTION:a càrrec de Lluís Homar
URL:https://arenysdemar.cat/document.php?id=15296
END:VEVENT
END:VCALENDAR