BEGIN:VCALENDAR
VERSION:2.0
PRODID:-//Plone.org//NONSGML plone.app.event//EN
X-WR-TIMEZONE:Europe/Madrid
BEGIN:VEVENT
SUMMARY:Conferència d'itinerari vital
DTSTART;TZID=Europe/Madrid;VALUE=DATE-TIME:20051213T180000
DTEND;TZID=Europe/Madrid;VALUE=DATE-TIME:20051213T190000
DTSTAMP;VALUE=DATE-TIME:20260423T103141Z
UID:eeab5a8669974adbba16251442beb2f0
CREATED;VALUE=DATE-TIME:20051213T000000Z
CATEGORIES:Conferència
LOCATION:Calisay/Sala J.M. Arnau
ORGANIZER:Aula d'Extensió Universitària
DESCRIPTION:La por al canvi a càrrec de Francesc Puig i Busquets, teòleg i metge
URL:https://arenysdemar.cat/document.php?id=15301
END:VEVENT
END:VCALENDAR