BEGIN:VCALENDAR
VERSION:2.0
PRODID:-//Plone.org//NONSGML plone.app.event//EN
X-WR-TIMEZONE:Europe/Madrid
BEGIN:VEVENT
SUMMARY:Lectures en veu alta: Relats curts de Víctor Català i Pere Calders
DTSTART;TZID=Europe/Madrid;VALUE=DATE-TIME:20051219T190000
DTEND;TZID=Europe/Madrid;VALUE=DATE-TIME:20051219T200000
DTSTAMP;VALUE=DATE-TIME:20260420T152525Z
UID:8e185396cb2bbbe7e307c333cd100d95
CREATED;VALUE=DATE-TIME:20051219T000000Z
CATEGORIES:Literatura
LOCATION:Biblioteca
ORGANIZER:Biblioteca - Regidoria de Cultura
DESCRIPTION:a càrrec de l'actriu Mercè Arànega
URL:https://arenysdemar.cat/document.php?id=15347
END:VEVENT
END:VCALENDAR