BEGIN:VCALENDAR
VERSION:2.0
PRODID:-//Plone.org//NONSGML plone.app.event//EN
X-WR-TIMEZONE:Europe/Madrid
BEGIN:VEVENT
SUMMARY:Màgia a l'Ateneu
DTSTART;TZID=Europe/Madrid;VALUE=DATE-TIME:20051218T180000
DTEND;TZID=Europe/Madrid;VALUE=DATE-TIME:20051218T190000
DTSTAMP;VALUE=DATE-TIME:20260420T203640Z
UID:7ffad5a1ef7689c1b77e93eac0658deb
CREATED;VALUE=DATE-TIME:20051218T000000Z
LOCATION:Ateneu Arenyenc
ORGANIZER:Ateneu Arenyenc
COMMENT:Preu: 3 euros
DESCRIPTION:a càrrec del mag Charles Lebowsky
URL:https://arenysdemar.cat/document.php?id=15357
END:VEVENT
END:VCALENDAR