BEGIN:VCALENDAR
VERSION:2.0
PRODID:-//Plone.org//NONSGML plone.app.event//EN
X-WR-TIMEZONE:Europe/Madrid
BEGIN:VEVENT
SUMMARY:Concert de cobla en homenatge als socis
DTSTART;TZID=Europe/Madrid;VALUE=DATE-TIME:20051226T183000
DTEND;TZID=Europe/Madrid;VALUE=DATE-TIME:20051226T193000
DTSTAMP;VALUE=DATE-TIME:20260424T024535Z
UID:5fdeb29515714f3919b44de861fbbad0
CREATED;VALUE=DATE-TIME:20051226T000000Z
CATEGORIES:Música
LOCATION:Ateneu Arenyenc
ORGANIZER:Ateneu Arenyenc
COMMENT:Preu: 5 euros
DESCRIPTION:a càrrec de la Cobla Mediterrània
URL:https://arenysdemar.cat/document.php?id=15358
END:VEVENT
END:VCALENDAR