BEGIN:VCALENDAR
VERSION:2.0
PRODID:-//Plone.org//NONSGML plone.app.event//EN
X-WR-TIMEZONE:Europe/Madrid
BEGIN:VEVENT
SUMMARY:Mataró sensefils: Xarxa o model social?
DTSTART;TZID=Europe/Madrid;VALUE=DATE-TIME:20051126T170000
DTEND;TZID=Europe/Madrid;VALUE=DATE-TIME:20051126T180000
DTSTAMP;VALUE=DATE-TIME:20260423T231100Z
UID:27e0104d52a376a241e3ff51960d17d4
CREATED;VALUE=DATE-TIME:20051126T000000Z
CATEGORIES:Conferència
LOCATION:Calisay/Sala J.M. Arnau
ORGANIZER:Arenys.org
URL:https://arenysdemar.cat/document.php?id=15366
END:VEVENT
END:VCALENDAR