BEGIN:VCALENDAR
VERSION:2.0
PRODID:-//Plone.org//NONSGML plone.app.event//EN
X-WR-TIMEZONE:Europe/Madrid
BEGIN:VEVENT
SUMMARY:Ball de Cap d'Any al Calisay
DTSTART;TZID=Europe/Madrid;VALUE=DATE-TIME:20060101T003000
DTEND;TZID=Europe/Madrid;VALUE=DATE-TIME:20060101T013000
DTSTAMP;VALUE=DATE-TIME:20260421T011824Z
UID:5b5d244a8b3f371b3fa008e713f5f573
CREATED;VALUE=DATE-TIME:20060101T000000Z
CATEGORIES:Festa,Música
LOCATION:Calisay/Sala Polivalent
ORGANIZER:Comissió del Picarol
COMMENT:Preu: 10 &euro;
DESCRIPTION:Any del Picarol
URL:https://arenysdemar.cat/document.php?id=15371
END:VEVENT
END:VCALENDAR