BEGIN:VCALENDAR
VERSION:2.0
PRODID:-//Plone.org//NONSGML plone.app.event//EN
X-WR-TIMEZONE:Europe/Madrid
BEGIN:VEVENT
SUMMARY:Audiència pública: Pressupost municipal 2006
DTSTART;TZID=Europe/Madrid;VALUE=DATE-TIME:20051213T200000
DTEND;TZID=Europe/Madrid;VALUE=DATE-TIME:20051213T210000
DTSTAMP;VALUE=DATE-TIME:20260424T011215Z
UID:6b28b60d2d0e35549975dea99a9b6a2a
CREATED;VALUE=DATE-TIME:20051213T000000Z
LOCATION:Ajuntament/Sala d'actes
ORGANIZER:Regidories de Participació Ciutadana i d'Hisenda
URL:https://arenysdemar.cat/document.php?id=15388
END:VEVENT
END:VCALENDAR