BEGIN:VCALENDAR
VERSION:2.0
PRODID:-//Plone.org//NONSGML plone.app.event//EN
X-WR-TIMEZONE:Europe/Madrid
BEGIN:VEVENT
SUMMARY:Consensuem el futur del Xifré
DTSTART;TZID=Europe/Madrid;VALUE=DATE-TIME:20051215T193000
DTEND;TZID=Europe/Madrid;VALUE=DATE-TIME:20051215T203000
DTSTAMP;VALUE=DATE-TIME:20260422T021419Z
UID:02b49349290ca3f037a61612aea1f5df
CREATED;VALUE=DATE-TIME:20051215T000000Z
LOCATION:Calisay/Sala J.M. Arnau
ORGANIZER:Regidoria de Participació Ciutadana. Amb la col·laboració de la Diputació i de la Generalitat
COMMENT:Durada: Fins a les 21.00 hores (aproximadament)
DESCRIPTION:Sessió de treball per posar a debat el futur ús de l'edifici Xifré
URL:https://arenysdemar.cat/document.php?id=15408
END:VEVENT
END:VCALENDAR