BEGIN:VCALENDAR
VERSION:2.0
PRODID:-//Plone.org//NONSGML plone.app.event//EN
X-WR-TIMEZONE:Europe/Madrid
BEGIN:VEVENT
SUMMARY:34è Concurs de Teatre Amateur "Premi Vila d'Arenys de Mar"
DTSTART;TZID=Europe/Madrid;VALUE=DATE-TIME:20060326T181500
DTEND;TZID=Europe/Madrid;VALUE=DATE-TIME:20060326T191500
DTSTAMP;VALUE=DATE-TIME:20260424T024735Z
UID:f5fe9125f2aba52380f216dc42f93da0
CREATED;VALUE=DATE-TIME:20060326T000000Z
CATEGORIES:Teatre
LOCATION:Teatre dels Seràfics
ORGANIZER:Grup Artístic Carles Xena
COMMENT:Preu: 6&euro; no socis 5&euro; socis 1&euro; estudiants
DESCRIPTION:Desdoblaments de Juli Manel Pou Vilabella a càrrec del Grup Inestable Ceretana de Puigcerdà
URL:https://arenysdemar.cat/document.php?id=15474
END:VEVENT
END:VCALENDAR