BEGIN:VCALENDAR
VERSION:2.0
PRODID:-//Plone.org//NONSGML plone.app.event//EN
X-WR-TIMEZONE:Europe/Madrid
BEGIN:VEVENT
SUMMARY:Hora del Conte
DTSTART;TZID=Europe/Madrid;VALUE=DATE-TIME:20060202T180000
DTEND;TZID=Europe/Madrid;VALUE=DATE-TIME:20060202T190000
DTSTAMP;VALUE=DATE-TIME:20260420T171807Z
UID:e13fc19781987ee211e6a8f626ba364b
CREATED;VALUE=DATE-TIME:20060202T000000Z
CATEGORIES:Infantils
LOCATION:Biblioteca
ORGANIZER:Biblioteca - Regidoria de Cultura
URL:https://arenysdemar.cat/document.php?id=15483
END:VEVENT
END:VCALENDAR