BEGIN:VCALENDAR
VERSION:2.0
PRODID:-//Plone.org//NONSGML plone.app.event//EN
X-WR-TIMEZONE:Europe/Madrid
BEGIN:VEVENT
SUMMARY:Dia Internacional dels Museus
DTSTART;TZID=Europe/Madrid;VALUE=DATE-TIME:20060518T000000
DTEND;TZID=Europe/Madrid;VALUE=DATE-TIME:20060518T010000
DTSTAMP;VALUE=DATE-TIME:20260423T195724Z
UID:c46ba8a69752de1dd25c75f6dc714a28
CREATED;VALUE=DATE-TIME:20060518T000000Z
LOCATION:Museu Mineralogia i Museu Marès de la Punta
ORGANIZER:Museu d'Arenys de Mar
COMMENT:Preu: Gratuït
Durada: També dies 20 i 21 de maig
DESCRIPTION:Jornada de portes obertes
URL:https://arenysdemar.cat/document.php?id=15501
END:VEVENT
END:VCALENDAR