BEGIN:VCALENDAR
VERSION:2.0
PRODID:-//Plone.org//NONSGML plone.app.event//EN
X-WR-TIMEZONE:Europe/Madrid
BEGIN:VEVENT
SUMMARY:Coneixem els Arenys
DTSTART;TZID=Europe/Madrid;VALUE=DATE-TIME:20060129T090000
DTEND;TZID=Europe/Madrid;VALUE=DATE-TIME:20060129T100000
DTSTAMP;VALUE=DATE-TIME:20260423T200047Z
UID:d103c2fdd8f354cd53e3790d3af63ecb
CREATED;VALUE=DATE-TIME:20060129T000000Z
CATEGORIES:Esports
LOCATION:Calisay/Pati
ORGANIZER:Arenys Sostenible / L'Eixida / Muntanyencs d'Arenys de Munt
DESCRIPTION:Passejada i visita a Can Jalpí
URL:https://arenysdemar.cat/document.php?id=15524
END:VEVENT
END:VCALENDAR