BEGIN:VCALENDAR
VERSION:2.0
PRODID:-//Plone.org//NONSGML plone.app.event//EN
X-WR-TIMEZONE:Europe/Madrid
BEGIN:VEVENT
SUMMARY:Trobada amb Emili Teixidor parlant de llibres
DTSTART;TZID=Europe/Madrid;VALUE=DATE-TIME:20060224T200000
DTEND;TZID=Europe/Madrid;VALUE=DATE-TIME:20060224T210000
DTSTAMP;VALUE=DATE-TIME:20260423T232730Z
UID:363db12e0701ae184fbc0a0506226b46
CREATED;VALUE=DATE-TIME:20060224T000000Z
LOCATION:Biblioteca
ORGANIZER:Biblioteca-Regidoria de Cultura
URL:https://arenysdemar.cat/document.php?id=15533
END:VEVENT
END:VCALENDAR