BEGIN:VCALENDAR
VERSION:2.0
PRODID:-//Plone.org//NONSGML plone.app.event//EN
X-WR-TIMEZONE:Europe/Madrid
BEGIN:VEVENT
SUMMARY:En Pere beneit amb Binixiflat
DTSTART;TZID=Europe/Madrid;VALUE=DATE-TIME:20060205T180000
DTEND;TZID=Europe/Madrid;VALUE=DATE-TIME:20060205T190000
DTSTAMP;VALUE=DATE-TIME:20260424T063209Z
UID:6559bc880e2d9e251387dccdf466bb71
CREATED;VALUE=DATE-TIME:20060205T000000Z
CATEGORIES:Infantils
LOCATION:Teatre Principal
ORGANIZER:Teatre Principal-Regidoria de Cultura
COMMENT:Preu: 5 &euro;
DESCRIPTION:teatre familiar
URL:https://arenysdemar.cat/document.php?id=15548
END:VEVENT
END:VCALENDAR