BEGIN:VCALENDAR
VERSION:2.0
PRODID:-//Plone.org//NONSGML plone.app.event//EN
X-WR-TIMEZONE:Europe/Madrid
BEGIN:VEVENT
SUMMARY:Simplicitat radical. Una vida sense petjada
DTSTART;TZID=Europe/Madrid;VALUE=DATE-TIME:20060310T171500
DTEND;TZID=Europe/Madrid;VALUE=DATE-TIME:20060310T181500
DTSTAMP;VALUE=DATE-TIME:20260424T165802Z
UID:31eedbfa73da9acb1c521428de808362
CREATED;VALUE=DATE-TIME:20060310T000000Z
CATEGORIES:Cursos
LOCATION:Calisay/Espai Jove
ORGANIZER:Regidoria de Joventut i Escola Lliure El Sol
COMMENT:Preu: 20&euro;
DESCRIPTION:Monogràfic
URL:https://arenysdemar.cat/document.php?id=15584
END:VEVENT
END:VCALENDAR