BEGIN:VCALENDAR
VERSION:2.0
PRODID:-//Plone.org//NONSGML plone.app.event//EN
X-WR-TIMEZONE:Europe/Madrid
BEGIN:VEVENT
SUMMARY:Curs Iniciació Monitors/es (Pre-Monitor/es)
DTSTART;TZID=Europe/Madrid;VALUE=DATE-TIME:20060325T000000
DTEND;TZID=Europe/Madrid;VALUE=DATE-TIME:20060325T010000
DTSTAMP;VALUE=DATE-TIME:20260423T103010Z
UID:f3c24cc423947baca083797954028651
CREATED;VALUE=DATE-TIME:20060325T000000Z
CATEGORIES:Cursos
LOCATION:Casa de colònies Can  Bosc (Sant Iscle)
ORGANIZER:Regidoria de Joventut i Escola Lliure El Sol
COMMENT:Preu: 90&euro;
Durada: fins al 26 de març
DESCRIPTION:Monogràfic
URL:https://arenysdemar.cat/document.php?id=15585
END:VEVENT
END:VCALENDAR