BEGIN:VCALENDAR
VERSION:2.0
PRODID:-//Plone.org//NONSGML plone.app.event//EN
X-WR-TIMEZONE:Europe/Madrid
BEGIN:VEVENT
SUMMARY:Arenys de Mar
DTSTART;TZID=Europe/Madrid;VALUE=DATE-TIME:20061006T193000
DTEND;TZID=Europe/Madrid;VALUE=DATE-TIME:20061006T203000
DTSTAMP;VALUE=DATE-TIME:20260424T081034Z
UID:bdc0ad8395832d093121c4b5f3c46d29
CREATED;VALUE=DATE-TIME:20061006T000000Z
CATEGORIES:Exposició
LOCATION:Calisay/Sala exposicions
ORGANIZER:Regidoria de Cultura i AFA
COMMENT:Durada: fins al 29 d'octubre
DESCRIPTION:Exposició dels treballs del concurs fotogràfic
URL:https://arenysdemar.cat/document.php?id=15592
END:VEVENT
END:VCALENDAR