BEGIN:VCALENDAR
VERSION:2.0
PRODID:-//Plone.org//NONSGML plone.app.event//EN
X-WR-TIMEZONE:Europe/Madrid
BEGIN:VEVENT
SUMMARY:Inauguració de l'exposició de pintures Xà Contzé
DTSTART;TZID=Europe/Madrid;VALUE=DATE-TIME:20060324T190000
DTEND;TZID=Europe/Madrid;VALUE=DATE-TIME:20060324T200000
DTSTAMP;VALUE=DATE-TIME:20260423T105534Z
UID:9a41457310445053a5db3754c6469226
CREATED;VALUE=DATE-TIME:20060324T000000Z
CATEGORIES:Exposició
LOCATION:Biblioteca
ORGANIZER:Biblioteca - Regidoria de Cultura
COMMENT:Durada: fins al 22 abril
DESCRIPTION:Tècnica mixta sobre paper, de David Xiberta
URL:https://arenysdemar.cat/document.php?id=15668
END:VEVENT
END:VCALENDAR