BEGIN:VCALENDAR
VERSION:2.0
PRODID:-//Plone.org//NONSGML plone.app.event//EN
X-WR-TIMEZONE:Europe/Madrid
BEGIN:VEVENT
SUMMARY:Competició interclubs de patinatge
DTSTART;TZID=Europe/Madrid;VALUE=DATE-TIME:20060319T080000
DTEND;TZID=Europe/Madrid;VALUE=DATE-TIME:20060319T090000
DTSTAMP;VALUE=DATE-TIME:20260423T103952Z
UID:349d284c9822a1ad1d2786cb0ba6c57e
CREATED;VALUE=DATE-TIME:20060319T000000Z
CATEGORIES:Esports
LOCATION:CE Fondo de les Creus
ORGANIZER:Club de Patinatge Artístic d'Arenys de Mar
URL:https://arenysdemar.cat/document.php?id=15724
END:VEVENT
END:VCALENDAR