BEGIN:VCALENDAR
VERSION:2.0
PRODID:-//Plone.org//NONSGML plone.app.event//EN
X-WR-TIMEZONE:Europe/Madrid
BEGIN:VEVENT
SUMMARY:Xerrada - Col·loqui
DTSTART;TZID=Europe/Madrid;VALUE=DATE-TIME:20060427T200000
DTEND;TZID=Europe/Madrid;VALUE=DATE-TIME:20060427T210000
DTSTAMP;VALUE=DATE-TIME:20260421T150121Z
UID:2cffc2162fbfa02b4eb35faca12d30ac
CREATED;VALUE=DATE-TIME:20060427T000000Z
CATEGORIES:Conferència
LOCATION:Calisay/Sala Noble
ORGANIZER:AMPA IES Els Tres Turons
COMMENT:Preu: Gratuït
DESCRIPTION:L'adolescència, una etapa difícil per a pares i fills. Arguments per no llençar la tovallola
URL:https://arenysdemar.cat/document.php?id=15777
END:VEVENT
END:VCALENDAR