BEGIN:VCALENDAR
VERSION:2.0
PRODID:-//Plone.org//NONSGML plone.app.event//EN
X-WR-TIMEZONE:Europe/Madrid
BEGIN:VEVENT
SUMMARY:Conferència de Societat
DTSTART;TZID=Europe/Madrid;VALUE=DATE-TIME:20060418T180000
DTEND;TZID=Europe/Madrid;VALUE=DATE-TIME:20060418T190000
DTSTAMP;VALUE=DATE-TIME:20260421T111058Z
UID:61a75e0ff8a0e5bf608320e157bbee20
CREATED;VALUE=DATE-TIME:20060418T000000Z
CATEGORIES:Conferència
LOCATION:Calisay/Sala J.M. Arnau
ORGANIZER:Aula d'Extensió Universitària
DESCRIPTION:Incivisme a les ciutats i desigualtat social
URL:https://arenysdemar.cat/document.php?id=15799
END:VEVENT
END:VCALENDAR