BEGIN:VCALENDAR
VERSION:2.0
PRODID:-//Plone.org//NONSGML plone.app.event//EN
X-WR-TIMEZONE:Europe/Madrid
BEGIN:VEVENT
SUMMARY:Ball de Festa Major
DTSTART;TZID=Europe/Madrid;VALUE=DATE-TIME:20060707T235900
DTEND;TZID=Europe/Madrid;VALUE=DATE-TIME:20060708T005900
DTSTAMP;VALUE=DATE-TIME:20260420T165344Z
UID:248f1e018bafa130151ad02eddc0f4c6
CREATED;VALUE=DATE-TIME:20060707T000000Z
CATEGORIES:Festa
LOCATION:Riera part alta
ORGANIZER:Reg. Cultura. Col·labora: Ass. de Veïns Arenys Nou
DESCRIPTION:amb l'Orquestra Maravella
URL:https://arenysdemar.cat/document.php?id=15868
END:VEVENT
END:VCALENDAR